BEGIN:VCALENDAR
VERSION:2.0
PRODID:-//Rooted in Littleton - ECPv6.15.4//NONSGML v1.0//EN
CALSCALE:GREGORIAN
METHOD:PUBLISH
X-WR-CALNAME:Rooted in Littleton
X-ORIGINAL-URL:https://rootedinlittleton.org
X-WR-CALDESC:Events for Rooted in Littleton
REFRESH-INTERVAL;VALUE=DURATION:PT1H
X-Robots-Tag:noindex
X-PUBLISHED-TTL:PT1H
BEGIN:VTIMEZONE
TZID:America/Denver
BEGIN:DAYLIGHT
TZOFFSETFROM:-0700
TZOFFSETTO:-0600
TZNAME:MDT
DTSTART:20250309T090000
END:DAYLIGHT
BEGIN:STANDARD
TZOFFSETFROM:-0600
TZOFFSETTO:-0700
TZNAME:MST
DTSTART:20251102T080000
END:STANDARD
END:VTIMEZONE
BEGIN:VEVENT
DTSTART;TZID=America/Denver:20250414T183000
DTEND;TZID=America/Denver:20250414T203000
DTSTAMP:20260420T115613
CREATED:20250317T204141Z
LAST-MODIFIED:20250317T204141Z
UID:369-1744655400-1744662600@rootedinlittleton.org
SUMMARY:April 14\, 2025 - PC Meeting
DESCRIPTION:Location\nSee agenda for meeting location \nRelated Information\n\nPlanning Commission\nPlanning Commission Meetings\nMeeting Videos
URL:https://rootedinlittleton.org/event/april-14-2025-pc-meeting/
CATEGORIES:City Meetings
ATTACH;FMTTYPE=image/webp:https://rootedinlittleton.org/wp-content/uploads/2025/03/littleton-logo.webp
END:VEVENT
BEGIN:VEVENT
DTSTART;TZID=America/Denver:20250415T183000
DTEND;TZID=America/Denver:20250415T200000
DTSTAMP:20260420T115613
CREATED:20250414T202249Z
LAST-MODIFIED:20250414T202512Z
UID:422-1744741800-1744747200@rootedinlittleton.org
SUMMARY:April 15\, 2025 CC Regular Meeting
DESCRIPTION:REGULAR MEETING\nCity Council (CC) regular meetings are held on the first and third Tuesday of each month. City Council study sessions are held on the second and fourth Tuesday of each month. All meetings start at 6:30 p.m. unless posted otherwise. \n\nTime\n06:30 PM Add to Calendar \n\n\nLocation\nSee agenda for meeting room \nLittleton Center\, 2255 W Berry Ave\, 80120 View Map \n\n\nRelated Information\n\nCity Council Members\nCity Council Meetings\nMeeting Videos\n04-15-2025-CC-Agenda.pdf(PDF\, 97KB)\n04-15-2025-CC-Meeting-Documents.pdf (large file\, 34mb)
URL:https://rootedinlittleton.org/event/april-15-2025-cc-regular-meeting/
CATEGORIES:City Meetings
ATTACH;FMTTYPE=image/webp:https://rootedinlittleton.org/wp-content/uploads/2025/03/littleton-logo.webp
END:VEVENT
BEGIN:VEVENT
DTSTART;TZID=America/Denver:20250428T183000
DTEND;TZID=America/Denver:20250428T200000
DTSTAMP:20260420T115613
CREATED:20250414T202732Z
LAST-MODIFIED:20250414T204643Z
UID:427-1745865000-1745870400@rootedinlittleton.org
SUMMARY:April 28\, 2025 - PC Meeting
DESCRIPTION:REGULAR MEETING\nPlanning Commission (PC) meetings are held on the second and fourth Mondays of the month starting at 6:30 p.m. \n\nTime\n06:30 PM Add to Calendar \n\n\nLocation\nSee agenda for meeting location \n\n\nRelated Information\n\nPlanning Commission\nPlanning Commission Meetings\nMeeting Videos
URL:https://rootedinlittleton.org/event/april-28-2025-pc-meeting/
CATEGORIES:City Meetings
ATTACH;FMTTYPE=image/webp:https://rootedinlittleton.org/wp-content/uploads/2025/03/littleton-logo.webp
END:VEVENT
END:VCALENDAR