BEGIN:VCALENDAR
VERSION:2.0
PRODID:-//Rooted in Littleton - ECPv6.15.4//NONSGML v1.0//EN
CALSCALE:GREGORIAN
METHOD:PUBLISH
X-WR-CALNAME:Rooted in Littleton
X-ORIGINAL-URL:https://rootedinlittleton.org
X-WR-CALDESC:Events for Rooted in Littleton
REFRESH-INTERVAL;VALUE=DURATION:PT1H
X-Robots-Tag:noindex
X-PUBLISHED-TTL:PT1H
BEGIN:VTIMEZONE
TZID:America/Denver
BEGIN:DAYLIGHT
TZOFFSETFROM:-0700
TZOFFSETTO:-0600
TZNAME:MDT
DTSTART:20250309T090000
END:DAYLIGHT
BEGIN:STANDARD
TZOFFSETFROM:-0600
TZOFFSETTO:-0700
TZNAME:MST
DTSTART:20251102T080000
END:STANDARD
END:VTIMEZONE
BEGIN:VEVENT
DTSTART;TZID=America/Denver:20250522T170000
DTEND;TZID=America/Denver:20250522T180000
DTSTAMP:20260420T073540
CREATED:20250522T174350Z
LAST-MODIFIED:20250522T174350Z
UID:505-1747933200-1747936800@rootedinlittleton.org
SUMMARY:City of Littleton w/ Urban Land Institute | City Council Meeting
DESCRIPTION:Come learn more about brainstorming for the revitalization of Littleton’s “northern gateway” area—including the Geneva Village property—when the Urban Land Institute Technical Advisory Panel (ULI TAP) presents its initial recommendations.
URL:https://rootedinlittleton.org/event/city-of-littleton-w-urban-land-institute-city-council-meeting/
LOCATION:Littleton Center\, 2255 W Berry Ave\, Littleton\, 80120\, United States
CATEGORIES:Rooted Events
END:VEVENT
END:VCALENDAR