BEGIN:VCALENDAR
VERSION:2.0
PRODID:-//Rooted in Littleton - ECPv6.15.4//NONSGML v1.0//EN
CALSCALE:GREGORIAN
METHOD:PUBLISH
X-WR-CALNAME:Rooted in Littleton
X-ORIGINAL-URL:https://rootedinlittleton.org
X-WR-CALDESC:Events for Rooted in Littleton
REFRESH-INTERVAL;VALUE=DURATION:PT1H
X-Robots-Tag:noindex
X-PUBLISHED-TTL:PT1H
BEGIN:VTIMEZONE
TZID:America/Denver
BEGIN:DAYLIGHT
TZOFFSETFROM:-0700
TZOFFSETTO:-0600
TZNAME:MDT
DTSTART:20250309T090000
END:DAYLIGHT
BEGIN:STANDARD
TZOFFSETFROM:-0600
TZOFFSETTO:-0700
TZNAME:MST
DTSTART:20251102T080000
END:STANDARD
END:VTIMEZONE
BEGIN:VEVENT
DTSTART;TZID=America/Denver:20250524T090000
DTEND;TZID=America/Denver:20250524T130000
DTSTAMP:20260420T073456
CREATED:20250522T173544Z
LAST-MODIFIED:20250522T173544Z
UID:493-1748077200-1748091600@rootedinlittleton.org
SUMMARY:Sign Petition EVENT
DESCRIPTION:IGN PETITION TO ALLOW LITTLETON RESIDENT’S DECIDE FUTURE DENSITY\, NOT CITY COUNCIL
URL:https://rootedinlittleton.org/event/sign-petition-event/
LOCATION:8711 W Arbor Ave\, Littleton\, CO 80123\, 8711 W Arbor Ave\, Littleton\, 80123\, United States
CATEGORIES:Rooted Events
ATTACH;FMTTYPE=image/webp:https://rootedinlittleton.org/wp-content/uploads/2025/03/rooted-in-littleton-wide-lg-500w.webp
END:VEVENT
BEGIN:VEVENT
DTSTART;TZID=America/Denver:20250524T100000
DTEND;TZID=America/Denver:20250524T120000
DTSTAMP:20260420T073456
CREATED:20250522T173730Z
LAST-MODIFIED:20250522T173730Z
UID:496-1748080800-1748088000@rootedinlittleton.org
SUMMARY:Sign Petition EVENT
DESCRIPTION:SIGN PETITION TO ALLOW LITTLETON RESIDENT’S DECIDE FUTURE DENSITY\, NOT CITY COUNCIL
URL:https://rootedinlittleton.org/event/sign-petition-event-2/
LOCATION:Ridgeview Park\, 1910 W Ridge Rd\, Littleton\, Colorado\, 80120\, United States
CATEGORIES:Rooted Events
ATTACH;FMTTYPE=image/webp:https://rootedinlittleton.org/wp-content/uploads/2025/03/rooted-in-littleton-500w.webp
END:VEVENT
BEGIN:VEVENT
DTSTART;TZID=America/Denver:20250524T140000
DTEND;TZID=America/Denver:20250524T160000
DTSTAMP:20260420T073456
CREATED:20250523T170028Z
LAST-MODIFIED:20250523T170029Z
UID:511-1748095200-1748102400@rootedinlittleton.org
SUMMARY:Petition Signing - Gallup Street
DESCRIPTION:
URL:https://rootedinlittleton.org/event/petition-signing-gallup-street/
LOCATION:Gallup St\, 6448 S. Gallup St\, Littleton\, CO\, United States
CATEGORIES:Rooted Events
ATTACH;FMTTYPE=image/webp:https://rootedinlittleton.org/wp-content/uploads/2025/03/rooted-in-littleton-500w.webp
END:VEVENT
END:VCALENDAR